Workbook

Sheet Applications
A1: Job Application Tracker
A2: Fill the blue-text cells. Date Applied, Company, Job Title, Platform, Link, Status and Notes are yours to edit. Follow-up Date, Days Waiting and Action fill in automatically. Row 5 is an example: overwrite it.
A4: Date Applied | B4: Company / Client | C4: Job Title | D4: Platform | E4: Link | F4: Status | G4: Follow-up Date | H4: Days Waiting | I4: Action | J4: Notes | L4: Follow-up after (days) | M4: 4
A5: 46295 | B5: Example Co. | C5: Virtual Assistant | D5: Indeed | E5: https://example.com/job | F5: Applied | G5: =IF(A5="","",A5+$M$4) -> 46299 | H5: =IF(OR(A5="",F5<>"Applied"),"",TODAY()-A5) -> 0 | I5: =IF(A5="","",IF(F5="Applied",IF(TODAY()>=G5,"Follow up now","Wait"),IF(F5="Followed up","Wait for reply",IF(F5="Interview","Prepare",IF(F5="Test task","Do the task",IF(F5="Offer","Reply to offer","")))))) -> Wait | J5: Example row: replace me. Sent CV and site link. | L5: Change this number to set when a follow-up is due.
G6: =IF(A6="","",A6+$M$4) | H6: =IF(OR(A6="",F6<>"Applied"),"",TODAY()-A6) | I6: =IF(A6="","",IF(F6="Applied",IF(TODAY()>=G6,"Follow up now","Wait"),IF(F6="Followed up","Wait for reply",IF(F6="Interview","Prepare",IF(F6="Test task","Do the task",IF(F6="Offer","Reply to offer",""))))))
G7: =IF(A7="","",A7+$M$4) | H7: =IF(OR(A7="",F7<>"Applied"),"",TODAY()-A7) | I7: =IF(A7="","",IF(F7="Applied",IF(TODAY()>=G7,"Follow up now","Wait"),IF(F7="Followed up","Wait for reply",IF(F7="Interview","Prepare",IF(F7="Test task","Do the task",IF(F7="Offer","Reply to offer",""))))))
G8: =IF(A8="","",A8+$M$4) | H8: =IF(OR(A8="",F8<>"Applied"),"",TODAY()-A8) | I8: =IF(A8="","",IF(F8="Applied",IF(TODAY()>=G8,"Follow up now","Wait"),IF(F8="Followed up","Wait for reply",IF(F8="Interview","Prepare",IF(F8="Test task","Do the task",IF(F8="Offer","Reply to offer",""))))))
G9: =IF(A9="","",A9+$M$4) | H9: =IF(OR(A9="",F9<>"Applied"),"",TODAY()-A9) | I9: =IF(A9="","",IF(F9="Applied",IF(TODAY()>=G9,"Follow up now","Wait"),IF(F9="Followed up","Wait for reply",IF(F9="Interview","Prepare",IF(F9="Test task","Do the task",IF(F9="Offer","Reply to offer",""))))))
G10: =IF(A10="","",A10+$M$4) | H10: =IF(OR(A10="",F10<>"Applied"),"",TODAY()-A10) | I10: =IF(A10="","",IF(F10="Applied",IF(TODAY()>=G10,"Follow up now","Wait"),IF(F10="Followed up","Wait for reply",IF(F10="Interview","Prepare",IF(F10="Test task","Do the task",IF(F10="Offer","Reply to offer",""))))))
G11: =IF(A11="","",A11+$M$4) | H11: =IF(OR(A11="",F11<>"Applied"),"",TODAY()-A11) | I11: =IF(A11="","",IF(F11="Applied",IF(TODAY()>=G11,"Follow up now","Wait"),IF(F11="Followed up","Wait for reply",IF(F11="Interview","Prepare",IF(F11="Test task","Do the task",IF(F11="Offer","Reply to offer",""))))))
G12: =IF(A12="","",A12+$M$4) | H12: =IF(OR(A12="",F12<>"Applied"),"",TODAY()-A12) | I12: =IF(A12="","",IF(F12="Applied",IF(TODAY()>=G12,"Follow up now","Wait"),IF(F12="Followed up","Wait for reply",IF(F12="Interview","Prepare",IF(F12="Test task","Do the task",IF(F12="Offer","Reply to offer",""))))))
G13: =IF(A13="","",A13+$M$4) | H13: =IF(OR(A13="",F13<>"Applied"),"",TODAY()-A13) | I13: =IF(A13="","",IF(F13="Applied",IF(TODAY()>=G13,"Follow up now","Wait"),IF(F13="Followed up","Wait for reply",IF(F13="Interview","Prepare",IF(F13="Test task","Do the task",IF(F13="Offer","Reply to offer",""))))))
G14: =IF(A14="","",A14+$M$4) | H14: =IF(OR(A14="",F14<>"Applied"),"",TODAY()-A14) | I14: =IF(A14="","",IF(F14="Applied",IF(TODAY()>=G14,"Follow up now","Wait"),IF(F14="Followed up","Wait for reply",IF(F14="Interview","Prepare",IF(F14="Test task","Do the task",IF(F14="Offer","Reply to offer",""))))))
G15: =IF(A15="","",A15+$M$4) | H15: =IF(OR(A15="",F15<>"Applied"),"",TODAY()-A15) | I15: =IF(A15="","",IF(F15="Applied",IF(TODAY()>=G15,"Follow up now","Wait"),IF(F15="Followed up","Wait for reply",IF(F15="Interview","Prepare",IF(F15="Test task","Do the task",IF(F15="Offer","Reply to offer",""))))))
G16: =IF(A16="","",A16+$M$4) | H16: =IF(OR(A16="",F16<>"Applied"),"",TODAY()-A16) | I16: =IF(A16="","",IF(F16="Applied",IF(TODAY()>=G16,"Follow up now","Wait"),IF(F16="Followed up","Wait for reply",IF(F16="Interview","Prepare",IF(F16="Test task","Do the task",IF(F16="Offer","Reply to offer",""))))))
G17: =IF(A17="","",A17+$M$4) | H17: =IF(OR(A17="",F17<>"Applied"),"",TODAY()-A17) | I17: =IF(A17="","",IF(F17="Applied",IF(TODAY()>=G17,"Follow up now","Wait"),IF(F17="Followed up","Wait for reply",IF(F17="Interview","Prepare",IF(F17="Test task","Do the task",IF(F17="Offer","Reply to offer",""))))))
... G204: =IF(A204="","",A204+$M$4) | H204: =IF(OR(A204="",F204<>"Applied"),"",TODAY()-A204) | I204: =IF(A204="","",IF(F204="Applied",IF(TODAY()>=G204,"Follow up now","Wait"),IF(F204="Followed up","Wait for reply",IF(F204="Interview","Prepare",IF(F204="Test task","Do the task",IF(F204="Offer","Reply to offer",""))))))

Sheet Summary
A1: Summary
A2: All numbers update automatically from the Applications sheet.
A4: Total applications | B4: =COUNTA(Applications!B5:B204) -> 1
A5: Applied (waiting) | B5: =COUNTIF(Applications!F5:F204,"Applied") -> 1
A6: Followed up | B6: =COUNTIF(Applications!F5:F204,"Followed up") -> 0
A7: Interview | B7: =COUNTIF(Applications!F5:F204,"Interview") -> 0
A8: Test task | B8: =COUNTIF(Applications!F5:F204,"Test task") -> 0
A9: Offer | B9: =COUNTIF(Applications!F5:F204,"Offer") -> 0
A10: Rejected | B10: =COUNTIF(Applications!F5:F204,"Rejected") -> 0
A11: No reply | B11: =COUNTIF(Applications!F5:F204,"No reply") -> 0
A12: Follow-ups due now | B12: =COUNTIF(Applications!I5:I204,"Follow up now") -> 0
A14: Response rate | B14: =IF(B4=0,0,(B7+B8+B9+B10)/B4) -> 0
A15: Interview rate | B15: =IF(B4=0,0,(B7+B8+B9)/B4) -> 0
A17: Response rate = interviews + test tasks + offers + rejections, divided by total applications. Interview rate = interviews + test tasks + offers, divided by total.
